BEGIN:VCALENDAR
VERSION:2.0
PRODID:-//Martes Eventos - ECPv6.15.11//NONSGML v1.0//EN
CALSCALE:GREGORIAN
METHOD:PUBLISH
X-WR-CALNAME:Martes Eventos
X-ORIGINAL-URL:https://marteseventos.com
X-WR-CALDESC:Eventos para Martes Eventos
REFRESH-INTERVAL;VALUE=DURATION:PT1H
X-Robots-Tag:noindex
X-PUBLISHED-TTL:PT1H
BEGIN:VTIMEZONE
TZID:UTC
BEGIN:STANDARD
TZOFFSETFROM:+0000
TZOFFSETTO:+0000
TZNAME:UTC
DTSTART:20230101T000000
END:STANDARD
END:VTIMEZONE
BEGIN:VEVENT
DTSTART;TZID=UTC:20241020T113000
DTEND;TZID=UTC:20241020T130000
DTSTAMP:20260422T000529
CREATED:20240723T113830Z
LAST-MODIFIED:20240723T113837Z
UID:1522-1729423800-1729429200@marteseventos.com
SUMMARY:El Bosco y la escuela flamenca
DESCRIPTION:Descubre el museo del Prado por salas\, por escuelas\, por artistas | CURSO 1 \nLos misterios de los cuadros; las conexiones entre artistas\, Velázquez y Goya\, Tiziano y Rubens; las salas del renacimiento italiano; el siglo XIX; y recorridos temáticos. \n________________________________ \nOctubre: EL BOSCO Y LA ESCUELA FLAMENCA \n📅 Domingo\, 20 de octubre \nEl Museo del Prado alberga la mejor y mayor colección que existe sobre el Bosco\, debido a que Felipe II unas décadas después de la muerte del pintor se convirtió en el principal coleccionista de sus obras. El jardín de las Delicias es una obra enigmática que fascina por su mundo de fantasía y el tono satírico con el que critica el comportamiento humano. \nCon esta visita analizaremos las obras de El Bosco en el museo\, así como veremos las obras de los demás principales representantes de la escuela flamenca del siglo XV y XVI como Patinir\, Brueghel el viejo y Brueghel el joven. \nConsulta el programa completo haciendo clic aquí
URL:https://marteseventos.com/agenda/el-bosco-y-la-escuela-flamenca-copy
CATEGORIES:Museo del Prado - curso 1
ATTACH;FMTTYPE=image/png:https://marteseventos.com/wp-content/uploads/2023/07/Descubre-el-Museop-del-prado_img-1.png
END:VEVENT
END:VCALENDAR