BEGIN:VCALENDAR
VERSION:2.0
PRODID:-//Martes Eventos - ECPv6.15.11//NONSGML v1.0//EN
CALSCALE:GREGORIAN
METHOD:PUBLISH
X-WR-CALNAME:Martes Eventos
X-ORIGINAL-URL:https://marteseventos.com
X-WR-CALDESC:Eventos para Martes Eventos
REFRESH-INTERVAL;VALUE=DURATION:PT1H
X-Robots-Tag:noindex
X-PUBLISHED-TTL:PT1H
BEGIN:VTIMEZONE
TZID:UTC
BEGIN:STANDARD
TZOFFSETFROM:+0000
TZOFFSETTO:+0000
TZNAME:UTC
DTSTART:20240101T000000
END:STANDARD
END:VTIMEZONE
BEGIN:VEVENT
DTSTART;TZID=UTC:20250117T103000
DTEND;TZID=UTC:20250117T120000
DTSTAMP:20260421T191947
CREATED:20240723T114340Z
LAST-MODIFIED:20240723T114340Z
UID:1538-1737109800-1737115200@marteseventos.com
SUMMARY:Mitología: El jardín de las Hespérides
DESCRIPTION:Descubre el museo del Prado por salas\, por escuelas\, por artistas | CURSO 2 \nLos misterios de los cuadros; las conexiones entre artistas\, Velázquez y Goya\, Tiziano y Rubens; las salas del renacimiento italiano; el siglo XIX; y recorridos temáticos. \n________________________________ \nEnero: MITOLOGÍA: EL JARDÍN DE LAS HESPÉRIDES \n📅 Viernes\, 17 de enero \nNuestra visita de hoy la dedicamos a la mitología y conoceremos historias de diferentes cuadros que tienen relación con el jardín de las Hespérides. Aquel jardín poseía un huerto mágico donde crecían manzanas doradas que otorgaban la inmortalidad. Veremos cómo el destino de héroes como Heracles\, Alejandro Paris y cazadoras como Atalanta se entrelazan con las manzanas deseadas. \nNos hará pensar acerca de los mitos y la importante influencia que tienen en la literatura y el arte a lo largo de la historia. Así como\, nos plantearemos preguntas sobre cómo se puede resumir toda la historia en una sola imagen\, ¿qué imagen define mejor ese mito? El artista elige el encuadre para hacer un cuadro que represente objetivamente la historia\, pero siempre desde su mirada subjetiva. \nDe nuevo el arte nos planteará preguntas y las respuestas dependerán de quien lo mire. \nConsulta el programa completo haciendo clic aquí
URL:https://marteseventos.com/agenda/mitologia-el-jardin-de-las-hesperides-2
CATEGORIES:Museo del Prado - curso 2
ATTACH;FMTTYPE=image/png:https://marteseventos.com/wp-content/uploads/2023/07/Descubre-el-museo-del-prado-–-curso-2-4.png
END:VEVENT
END:VCALENDAR