BEGIN:VCALENDAR
VERSION:2.0
PRODID:-//Martes Eventos - ECPv6.15.11//NONSGML v1.0//EN
CALSCALE:GREGORIAN
METHOD:PUBLISH
X-WR-CALNAME:Martes Eventos
X-ORIGINAL-URL:https://marteseventos.com
X-WR-CALDESC:Eventos para Martes Eventos
REFRESH-INTERVAL;VALUE=DURATION:PT1H
X-Robots-Tag:noindex
X-PUBLISHED-TTL:PT1H
BEGIN:VTIMEZONE
TZID:UTC
BEGIN:STANDARD
TZOFFSETFROM:+0000
TZOFFSETTO:+0000
TZNAME:UTC
DTSTART:20240101T000000
END:STANDARD
END:VTIMEZONE
BEGIN:VEVENT
DTSTART;TZID=UTC:20250214T103000
DTEND;TZID=UTC:20250214T120000
DTSTAMP:20260421T174310
CREATED:20240723T105036Z
LAST-MODIFIED:20240723T105113Z
UID:1501-1739529000-1739534400@marteseventos.com
SUMMARY:Velázquez
DESCRIPTION:Descubre el museo del Prado por salas\, por escuelas\, por artistas | CURSO 1 \nLos misterios de los cuadros; las conexiones entre artistas\, Velázquez y Goya\, Tiziano y Rubens; las salas del renacimiento italiano; el siglo XIX; y recorridos temáticos. \n________________________________ \nEnero: VELÁZQUEZ \n📅Viernes\, 11 de febrero \nUn recorrido específico y cronológico sobre la vida y obra de Diego Velázquez. Niño prodigio y rebelde ya desde joven se saltaba las normas de la pintura\, forjándose un estilo rebelde\, subversivo\, anticlásico absolutamente incomparable con cualquiera artista de su época. Muy diferente. \nConoceremos su obra en profundidad\, en su contexto\, observando su evolución hasta llegar a las pinturas de su madurez como las Meninas o las Hilanderas\, obras llenas de interpretaciones\, es imprescindible conocer su esencia. \nDisfrutaremos de sus obras con calma. \nConsulta el programa completo haciendo clic aquí
URL:https://marteseventos.com/agenda/velazquez-copy
CATEGORIES:Museo del Prado - curso 1
ATTACH;FMTTYPE=image/png:https://marteseventos.com/wp-content/uploads/2023/07/Descubre-el-museo-del-Prado_img-4.png
END:VEVENT
BEGIN:VEVENT
DTSTART;TZID=UTC:20250214T103000
DTEND;TZID=UTC:20250214T120000
DTSTAMP:20260421T174310
CREATED:20240723T114259Z
LAST-MODIFIED:20240723T114259Z
UID:1539-1739529000-1739534400@marteseventos.com
SUMMARY:La escultura
DESCRIPTION:Descubre el museo del Prado por salas\, por escuelas\, por artistas | CURSO 2 \nDescubre el museo del Prado por salas\, por escuelas\, por artistas. Los misterios de los cuadros; las conexiones entre artistas\, Velázquez y Goya\, Tiziano y Rubens; las salas del renacimiento italiano; el siglo XIX; y recorridos temáticos. \nDisfruta del arte en profundidad y con calma. \n________________________________ \nFebrero: LA ESCULTURA \n📅 Viernes\, 14 de febrero \nA menudo pensamos que el museo del Prado es una pinacoteca de cuadros únicamente y nos olvidamos de que guarda un valioso conjunto de más de novecientas esculturas\, que al tiempo que permiten recorrer la historia del género\, ya que hay esculturas clásicas como renacentistas\, barrocas del siglo XVIII y del siglo XIX\, también\, complementan y enriquecen la visión de las pinturas con las que en más de una ocasión compartieron espacio y avatares en el pasado. Como es el caso de la pintura\, el coleccionismo real vuelve a estar en el origen de muchas de estas piezas que los monarcas españoles destinaron a adornar sus palacios\, jardines\, iglesias o capillas privadas. \nEn nuestra visita haremos un recorrido cronológico por las obras maestras de todas ellas y analizaremos cómo están expuestas en el museo y cómo las nuevas salas de escultura se presentan de una manera distinta a las antiguas\, integrándolas aún más en los itinerarios del visitante. \nAsí pues\, analizaremos con calma\, como las formas de exponer evolucionan. \nConsulta el programa completo haciendo clic aquí
URL:https://marteseventos.com/agenda/la-escultura-2
CATEGORIES:Museo del Prado - curso 2
ATTACH;FMTTYPE=image/png:https://marteseventos.com/wp-content/uploads/2023/07/Descubre-el-museo-del-prado-–-curso-2-5.png
END:VEVENT
END:VCALENDAR