BEGIN:VCALENDAR
VERSION:2.0
PRODID:-//Martes Eventos - ECPv6.15.11//NONSGML v1.0//EN
CALSCALE:GREGORIAN
METHOD:PUBLISH
X-WR-CALNAME:Martes Eventos
X-ORIGINAL-URL:https://marteseventos.com
X-WR-CALDESC:Eventos para Martes Eventos
REFRESH-INTERVAL;VALUE=DURATION:PT1H
X-Robots-Tag:noindex
X-PUBLISHED-TTL:PT1H
BEGIN:VTIMEZONE
TZID:UTC
BEGIN:STANDARD
TZOFFSETFROM:+0000
TZOFFSETTO:+0000
TZNAME:UTC
DTSTART:20240101T000000
END:STANDARD
END:VTIMEZONE
BEGIN:VEVENT
DTSTART;TZID=UTC:20250321T103000
DTEND;TZID=UTC:20250321T120000
DTSTAMP:20260425T103137
CREATED:20240723T114238Z
LAST-MODIFIED:20240723T114238Z
UID:1540-1742553000-1742558400@marteseventos.com
SUMMARY:El tesoro del delfín
DESCRIPTION:Descubre el museo del Prado por salas\, por escuelas\, por artistas | CURSO 2 \nDescubre el museo del Prado por salas\, por escuelas\, por artistas. Los misterios de los cuadros; las conexiones entre artistas\, Velázquez y Goya\, Tiziano y Rubens; las salas del renacimiento italiano; el siglo XIX; y recorridos temáticos. \nDisfruta del arte en profundidad y con calma. \n________________________________ \nMarzo: EL TESORO DEL DELFÍN \n📅 Viernes\, 21 de marzo \nEl Tesoro del Delfín está formado por un conjunto de los tradicionalmente llamados «vasos ricos» que perteneció al Gran Delfín Luis de Francia y que\, tras su fallecimiento\, heredó su hijo Felipe V\, primer Borbón español. Se trata de una colección única en España\, equiparable a otros grandes tesoros dinásticos europeos\, tanto por su calidad como por su valor intrínseco y su belleza\, además de ser un importante ejemplo del coleccionismo europeo de artes suntuarias en los siglos XVI y XVII\, imagen también del poder y prestigio regios. \nAprovecharemos para analizar la forma de ser expuestas estas piezas\, los requerimientos técnicos de conservación que necesitan y hablaremos de como las nuevas tecnologías se utilizan en los museos para crear aplicaciones interactivas que permitan al visitante tener una mayor experiencia digital y audiovisual. \nConsulta el programa completo haciendo clic aquí
URL:https://marteseventos.com/agenda/el-tesoro-del-delfin-2
CATEGORIES:Museo del Prado - curso 2
ATTACH;FMTTYPE=image/png:https://marteseventos.com/wp-content/uploads/2023/07/Descubre-el-museo-del-prado-–-curso-2-6.png
END:VEVENT
END:VCALENDAR