BEGIN:VCALENDAR
VERSION:2.0
PRODID:-//Martes Eventos - ECPv6.15.11//NONSGML v1.0//EN
CALSCALE:GREGORIAN
METHOD:PUBLISH
X-ORIGINAL-URL:https://marteseventos.com
X-WR-CALDESC:Eventos para Martes Eventos
REFRESH-INTERVAL;VALUE=DURATION:PT1H
X-Robots-Tag:noindex
X-PUBLISHED-TTL:PT1H
BEGIN:VTIMEZONE
TZID:UTC
BEGIN:STANDARD
TZOFFSETFROM:+0000
TZOFFSETTO:+0000
TZNAME:UTC
DTSTART:20240101T000000
END:STANDARD
END:VTIMEZONE
BEGIN:VEVENT
DTSTART;TZID=UTC:20250613T103000
DTEND;TZID=UTC:20250613T120000
DTSTAMP:20260421T111703
CREATED:20240723T114144Z
LAST-MODIFIED:20240723T114144Z
UID:1542-1749810600-1749816000@marteseventos.com
SUMMARY:El Prado en femenino
DESCRIPTION:Descubre el museo del Prado por salas\, por escuelas\, por artistas | CURSO 2 \nDescubre el museo del Prado por salas\, por escuelas\, por artistas. Los misterios de los cuadros; las conexiones entre artistas\, Velázquez y Goya\, Tiziano y Rubens; las salas del renacimiento italiano; el siglo XIX; y recorridos temáticos. \nDisfruta del arte en profundidad y con calma. \n________________________________ \nJunio: EL PRADO EN FEMENINO \n📅 Viernes\, 13 de junio \nVamos a observar una treintena de obras del museo desde una mirada distinta pero rigurosa\, una mirada que se fije en temas y asuntos diferentes a los habituales\, haciendo protagonistas a las mujeres. \nCon el recorrido de El Prado en femenino conoceremos biografías de mujeres que promocionaron\, coleccionaron e inspiraron algunas de las obras de arte más emblemáticas del museo. Exploraremos nuevas narrativas\, conoceremos relatos sorprendentes\, donde ellas son las protagonistas. Mujeres que ejercieron de matronas de las artes\, que impulsaron el museo en sus orígenes y contribuyeron a formar las colecciones que hoy en día contemplamos. \nNos hará pensar que la historia es objetiva pero los relatos y las historias son subjetivas y depende de qué hablemos\, tendremos una experiencia u otra en el mismo museo. \nConsulta el programa completo haciendo clic aquí
URL:https://marteseventos.com/agenda/el-prado-en-femenino-2
CATEGORIES:Museo del Prado - curso 2
ATTACH;FMTTYPE=image/png:https://marteseventos.com/wp-content/uploads/2023/07/Descubre-el-museo-del-prado-–-curso-2-9.png
END:VEVENT
END:VCALENDAR