BEGIN:VCALENDAR
VERSION:2.0
PRODID:-//Martes Eventos - ECPv6.15.11//NONSGML v1.0//EN
CALSCALE:GREGORIAN
METHOD:PUBLISH
X-ORIGINAL-URL:https://marteseventos.com
X-WR-CALDESC:Eventos para Martes Eventos
REFRESH-INTERVAL;VALUE=DURATION:PT1H
X-Robots-Tag:noindex
X-PUBLISHED-TTL:PT1H
BEGIN:VTIMEZONE
TZID:UTC
BEGIN:STANDARD
TZOFFSETFROM:+0000
TZOFFSETTO:+0000
TZNAME:UTC
DTSTART:20240101T000000
END:STANDARD
END:VTIMEZONE
BEGIN:VEVENT
DTSTART;TZID=UTC:20250411T103000
DTEND;TZID=UTC:20250411T120000
DTSTAMP:20260424T081910
CREATED:20240423T123148Z
LAST-MODIFIED:20240723T114530Z
UID:1362-1744367400-1744372800@marteseventos.com
SUMMARY:El gabinete de descanso de SSMM Los Reyes
DESCRIPTION:Descubre el museo del Prado por salas\, por escuelas\, por artistas | CURSO 2 \nDescubre el museo del Prado por salas\, por escuelas\, por artistas. Los misterios de los cuadros; las conexiones entre artistas\, Velázquez y Goya\, Tiziano y Rubens; las salas del renacimiento italiano; el siglo XIX; y recorridos temáticos. \nDisfruta del arte en profundidad y con calma. \n________________________________ \nAbril: EL GABINETE DE DESCANSO DE SUS MAJESTADES LOS REYES \n📅 Viernes\, 11 de abril \nConoceremos esta curiosa sala llamada Gabinete de Descanso de sus Majestades en el Museo del Prado que como su nombre indica\, se creó desde la inauguración del museo en 1928\, para uso de descanso y de baño privado de sus majestades en sus visitas al Museo. La sala contiene 48 obras que forman una galería iconográfica de retratos de la dinastía de los Borbones desde Felipe V hasta Fernando VII lo que nos permitirá hacer un repaso de toda la dinastía y podremos observar\, en un pequeño cuartito anejo el lugar destinado a la higiene íntima de los reyes llamado “retrete de S.M. en el Real Museo” con visitas al Jardín botánico. \nUn lugar de descanso que nos permitirá conocer obras de siglo XVIII de una manera pausada. \nConsulta el programa completo haciendo clic aquí
URL:https://marteseventos.com/agenda/el-gabinete-de-descanso-de-ssmm-los-reyes-copy
CATEGORIES:Museo del Prado - curso 2
ATTACH;FMTTYPE=image/png:https://marteseventos.com/wp-content/uploads/2023/07/Descubre-el-museo-del-prado-–-curso-2-7.png
END:VEVENT
END:VCALENDAR