BEGIN:VCALENDAR
VERSION:2.0
PRODID:-//Martes Eventos - ECPv6.15.11//NONSGML v1.0//EN
CALSCALE:GREGORIAN
METHOD:PUBLISH
X-ORIGINAL-URL:https://marteseventos.com
X-WR-CALDESC:Eventos para Martes Eventos
REFRESH-INTERVAL;VALUE=DURATION:PT1H
X-Robots-Tag:noindex
X-PUBLISHED-TTL:PT1H
BEGIN:VTIMEZONE
TZID:UTC
BEGIN:STANDARD
TZOFFSETFROM:+0000
TZOFFSETTO:+0000
TZNAME:UTC
DTSTART:20220101T000000
END:STANDARD
END:VTIMEZONE
BEGIN:VEVENT
DTSTART;TZID=UTC:20230920T113000
DTEND;TZID=UTC:20230920T125000
DTSTAMP:20260422T134105
CREATED:20230804T114832Z
LAST-MODIFIED:20230804T120347Z
UID:961-1695209400-1695214200@marteseventos.com
SUMMARY:Lo oculto en las colecciones del museo Thyssen Bornemisza
DESCRIPTION:Curso de exposiciones temporales \nUn curso anual de una exposición al mes: el tercer viernes a las 17h30. Una manera diferente de conocer nuevas propuestas artísticas\, donde cada mes realizaremos nuevas visitas que combinen el talento de artistas contemporáneos y consagrados con la rica historia y arquitectura de los museos seleccionados. \n________________________________ \nSeptiembre: LO OCULTO EN LAS COLECCIONES THYSSEN BORNEMISZA \n📅 Domingo\, 17 de septiembre a las 17:30h \n🕓 Duración 1h20 \n📍 Quedamos a las 11h20 en el hall del museo \n🎟️ Precio 24€: incluye visita guiada + entrada + auriculares para sistema guiado. \nLa exposición Lo oculto en las colecciones del museo Thyssen Bornemisza reúne 159 obras de arte en las que se detectan rastros de lo oculto que pueden documentarse. La tradición esotérica nos ofrece una serie de códigos para descifrar sentidos escondidos. Su valor consiste en revelarnos detalles y aspectos de las obras de arte que han pasado inadvertidos y proponer nuevas lecturas heterodoxas de las mismas. \nUna ocasión para profundizar en las obras de arte desde otros enfoques. \nConsulta el programa completo haciendo clic aquí
URL:https://marteseventos.com/agenda/lo-oculto-en-las-colecciones-del-museo-thyssen-bornemisza-2
CATEGORIES:Exposiciones temporales
ATTACH;FMTTYPE=image/png:https://marteseventos.com/wp-content/uploads/2023/08/Curso-exposiciones-temporales-1.png
END:VEVENT
BEGIN:VEVENT
DTSTART;TZID=UTC:20230917T173000
DTEND;TZID=UTC:20230917T185000
DTSTAMP:20260422T134105
CREATED:20230804T114518Z
LAST-MODIFIED:20230804T120340Z
UID:950-1694971800-1694976600@marteseventos.com
SUMMARY:Lo oculto en las colecciones del museo Thyssen Bornemisza
DESCRIPTION:Curso de exposiciones temporales \nUn curso anual de una exposición al mes: el tercer viernes a las 17h30. Una manera diferente de conocer nuevas propuestas artísticas\, donde cada mes realizaremos nuevas visitas que combinen el talento de artistas contemporáneos y consagrados con la rica historia y arquitectura de los museos seleccionados. \n________________________________ \nSeptiembre: LO OCULTO EN LAS COLECCIONES THYSSEN BORNEMISZA \n📅 Domingo\, 17 de septiembre a las 17:30h \n🕓 Duración 1h20 \n📍 Quedamos a las 17h20 en el hall del museo \n🎟️ Precio 24€: incluye visita guiada + entrada + auriculares para sistema guiado. \nLa exposición Lo oculto en las colecciones del museo Thyssen Bornemisza reúne 159 obras de arte en las que se detectan rastros de lo oculto que pueden documentarse. La tradición esotérica nos ofrece una serie de códigos para descifrar sentidos escondidos. Su valor consiste en revelarnos detalles y aspectos de las obras de arte que han pasado inadvertidos y proponer nuevas lecturas heterodoxas de las mismas. \nUna ocasión para profundizar en las obras de arte desde otros enfoques. \nConsulta el programa completo haciendo clic aquí
URL:https://marteseventos.com/agenda/lo-oculto-en-las-colecciones-del-museo-thyssen-bornemisza
CATEGORIES:Exposiciones temporales
ATTACH;FMTTYPE=image/png:https://marteseventos.com/wp-content/uploads/2023/08/Curso-exposiciones-temporales-1.png
END:VEVENT
END:VCALENDAR