BEGIN:VCALENDAR
VERSION:2.0
PRODID:-//Martes Eventos - ECPv6.15.11//NONSGML v1.0//EN
CALSCALE:GREGORIAN
METHOD:PUBLISH
X-ORIGINAL-URL:https://marteseventos.com
X-WR-CALDESC:Eventos para Martes Eventos
REFRESH-INTERVAL;VALUE=DURATION:PT1H
X-Robots-Tag:noindex
X-PUBLISHED-TTL:PT1H
BEGIN:VTIMEZONE
TZID:UTC
BEGIN:STANDARD
TZOFFSETFROM:+0000
TZOFFSETTO:+0000
TZNAME:UTC
DTSTART:20240101T000000
END:STANDARD
END:VTIMEZONE
BEGIN:VEVENT
DTSTART;TZID=UTC:20250520T144500
DTEND;TZID=UTC:20250520T160000
DTSTAMP:20260421T112417
CREATED:20240723T103727Z
LAST-MODIFIED:20240812T081833Z
UID:1470-1747752300-1747756800@marteseventos.com
SUMMARY:Goya II
DESCRIPTION:Descubre el museo del Prado por salas\, por escuelas\, por artistas | CURSO 1 \nLos misterios de los cuadros; las conexiones entre artistas\, Velázquez y Goya\, Tiziano y Rubens; las salas del renacimiento italiano; el siglo XIX; y recorridos temáticos. \n________________________________ \nMayo: GOYA II \n📅Martes\, 20 de mayo \nGoya fue un testigo excepcional de un periodo entre dos siglos y dos épocas\, vivió el cambio del antiguo régimen\, del siglo XVIII al mundo contemporáneo\, el siglo XIX\, con todo lo que ello implica. Su arte adelantó muchas de las preocupaciones estéticas que siguen vigentes y que inquietan al hombre actual. \nEn esta ocasión nos centraremos en sus pinturas de historia\, sobre los sucesos históricos del 2 de mayo\, y los fusilamientos del 3 de mayo y sus pinturas negras de excepcional creatividad\, muy adelantado a su tiempo y lo veremos en su contexto\, entendiendo como presagia movimientos posteriores como el expresionismo y el surrealismo del siglo XX. \nConsulta el programa completo haciendo clic aquí
URL:https://marteseventos.com/agenda/goya-ii-4
CATEGORIES:Museo del Prado - curso 1
ATTACH;FMTTYPE=image/png:https://marteseventos.com/wp-content/uploads/2023/07/Descubre-el-museo-del-Prado_img-7.png
END:VEVENT
BEGIN:VEVENT
DTSTART;TZID=UTC:20250523T103000
DTEND;TZID=UTC:20250523T120000
DTSTAMP:20260421T112417
CREATED:20240723T114202Z
LAST-MODIFIED:20240723T114219Z
UID:1541-1747996200-1748001600@marteseventos.com
SUMMARY:Retrato en el s. XIX
DESCRIPTION:Descubre el museo del Prado por salas\, por escuelas\, por artistas | CURSO 2 \nDescubre el museo del Prado por salas\, por escuelas\, por artistas. Los misterios de los cuadros; las conexiones entre artistas\, Velázquez y Goya\, Tiziano y Rubens; las salas del renacimiento italiano; el siglo XIX; y recorridos temáticos. \nDisfruta del arte en profundidad y con calma. \n________________________________ \nMayo: RETRATO EN EL S. XIX  \n📅 Viernes\, 23 de mayo \nEl retrato\, género por excelencia de la pintura española\, es el conjunto más abundante en las colecciones del XIX. En este siglo\, la obsesión por él dio lugar a la formación de numerosas iconotecas. El Prado conserva algunas\, como la Serie cronológica de los reyes de España y el Museo Iconográfico\, depositadas en instituciones como el Congreso y la Real Academia de la Historia. \nLa práctica cada vez más frecuente del autorretrato o del retrato de otros autores fue fruto de la creciente autonomía del arte. Casi todos los pintores relevantes\, de Goya a Sorolla\, cuentan con efigies suyas en esta colección. La presencia en esta galería de artistas muestra la variedad de aproximaciones a lo largo del siglo. \nUn recorrido por el retrato\, analizando las obras siempre en su contexto. \nConsulta el programa completo haciendo clic aquí
URL:https://marteseventos.com/agenda/retrato-en-el-s-xix-copy
CATEGORIES:Museo del Prado - curso 2
ATTACH;FMTTYPE=image/png:https://marteseventos.com/wp-content/uploads/2023/07/Descubre-el-museo-del-prado-–-curso-2-8.png
END:VEVENT
BEGIN:VEVENT
DTSTART;TZID=UTC:20250525T113000
DTEND;TZID=UTC:20250525T130000
DTSTAMP:20260421T112417
CREATED:20240723T103802Z
LAST-MODIFIED:20240818T143918Z
UID:1471-1748172600-1748178000@marteseventos.com
SUMMARY:Goya II
DESCRIPTION:Descubre el museo del Prado por salas\, por escuelas\, por artistas | CURSO 1 \nLos misterios de los cuadros; las conexiones entre artistas\, Velázquez y Goya\, Tiziano y Rubens; las salas del renacimiento italiano; el siglo XIX; y recorridos temáticos. \n________________________________ \nMayo: GOYA II \n📅Domingo\, 11 de mayo \nGoya fue un testigo excepcional de un periodo entre dos siglos y dos épocas\, vivió el cambio del antiguo régimen\, del siglo XVIII al mundo contemporáneo\, el siglo XIX\, con todo lo que ello implica. Su arte adelantó muchas de las preocupaciones estéticas que siguen vigentes y que inquietan al hombre actual. \nEn esta ocasión nos centraremos en sus pinturas de historia\, sobre los sucesos históricos del 2 de mayo\, y los fusilamientos del 3 de mayo y sus pinturas negras de excepcional creatividad\, muy adelantado a su tiempo y lo veremos en su contexto\, entendiendo como presagia movimientos posteriores como el expresionismo y el surrealismo del siglo XX. \nConsulta el programa completo haciendo clic aquí
URL:https://marteseventos.com/agenda/goya-ii-5
CATEGORIES:Museo del Prado - curso 1
ATTACH;FMTTYPE=image/png:https://marteseventos.com/wp-content/uploads/2023/07/Descubre-el-museo-del-Prado_img-7.png
END:VEVENT
BEGIN:VEVENT
DTSTART;TZID=UTC:20250530T103000
DTEND;TZID=UTC:20250530T120000
DTSTAMP:20260421T112417
CREATED:20240818T144044Z
LAST-MODIFIED:20240818T144044Z
UID:1662-1748601000-1748606400@marteseventos.com
SUMMARY:Goya II
DESCRIPTION:Descubre el museo del Prado por salas\, por escuelas\, por artistas | CURSO 1 \nLos misterios de los cuadros; las conexiones entre artistas\, Velázquez y Goya\, Tiziano y Rubens; las salas del renacimiento italiano; el siglo XIX; y recorridos temáticos. \n________________________________ \nMayo: GOYA II \n📅Viernes\, 30 de mayo \nGoya fue un testigo excepcional de un periodo entre dos siglos y dos épocas\, vivió el cambio del antiguo régimen\, del siglo XVIII al mundo contemporáneo\, el siglo XIX\, con todo lo que ello implica. Su arte adelantó muchas de las preocupaciones estéticas que siguen vigentes y que inquietan al hombre actual. \nEn esta ocasión nos centraremos en sus pinturas de historia\, sobre los sucesos históricos del 2 de mayo\, y los fusilamientos del 3 de mayo y sus pinturas negras de excepcional creatividad\, muy adelantado a su tiempo y lo veremos en su contexto\, entendiendo como presagia movimientos posteriores como el expresionismo y el surrealismo del siglo XX. \nConsulta el programa completo haciendo clic aquí
URL:https://marteseventos.com/agenda/goya-ii-6
CATEGORIES:Museo del Prado - curso 1
ATTACH;FMTTYPE=image/png:https://marteseventos.com/wp-content/uploads/2023/07/Descubre-el-museo-del-Prado_img-7.png
END:VEVENT
END:VCALENDAR